BEGIN:VCALENDAR
VERSION:2.0
PRODID:-//Sancroftcommunitycare - ECPv5.3.2//NONSGML v1.0//EN
CALSCALE:GREGORIAN
METHOD:PUBLISH
X-WR-CALNAME:Sancroftcommunitycare
X-ORIGINAL-URL:https://sancroftcommunitycare.com
X-WR-CALDESC:Events for Sancroftcommunitycare
BEGIN:VTIMEZONE
TZID:UTC
BEGIN:STANDARD
TZOFFSETFROM:+0000
TZOFFSETTO:+0000
TZNAME:UTC
DTSTART:20180101T000000
END:STANDARD
END:VTIMEZONE
BEGIN:VEVENT
DTSTART;TZID=UTC:20181031T140000
DTEND;TZID=UTC:20181031T160000
DTSTAMP:20260425T171514
CREATED:20181019T104001Z
LAST-MODIFIED:20181019T104001Z
UID:255-1540994400-1541001600@sancroftcommunitycare.com
SUMMARY:Halloween party
DESCRIPTION:
URL:https://sancroftcommunitycare.com/event/halloween-party/
LOCATION:Sancroft Community Care Ltd\, 28B Sancroft Road\, Harrow HA3 7NS
END:VEVENT
END:VCALENDAR