BEGIN:VCALENDAR
VERSION:2.0
PRODID:-//Sancroftcommunitycare - ECPv5.3.2//NONSGML v1.0//EN
CALSCALE:GREGORIAN
METHOD:PUBLISH
X-WR-CALNAME:Sancroftcommunitycare
X-ORIGINAL-URL:https://sancroftcommunitycare.com
X-WR-CALDESC:Events for Sancroftcommunitycare
BEGIN:VTIMEZONE
TZID:UTC
BEGIN:STANDARD
TZOFFSETFROM:+0000
TZOFFSETTO:+0000
TZNAME:UTC
DTSTART:20190101T000000
END:STANDARD
END:VTIMEZONE
BEGIN:VEVENT
DTSTART;TZID=UTC:20190304T110000
DTEND;TZID=UTC:20190304T210000
DTSTAMP:20260425T102546
CREATED:20190307T143632Z
LAST-MODIFIED:20190307T143632Z
UID:419-1551697200-1551733200@sancroftcommunitycare.com
SUMMARY:Service and Communion
DESCRIPTION:
URL:https://sancroftcommunitycare.com/event/service-and-communion/
END:VEVENT
END:VCALENDAR