BEGIN:VCALENDAR
VERSION:2.0
PRODID:-//Sancroftcommunitycare - ECPv5.3.2//NONSGML v1.0//EN
CALSCALE:GREGORIAN
METHOD:PUBLISH
X-WR-CALNAME:Sancroftcommunitycare
X-ORIGINAL-URL:https://sancroftcommunitycare.com
X-WR-CALDESC:Events for Sancroftcommunitycare
BEGIN:VTIMEZONE
TZID:UTC
BEGIN:STANDARD
TZOFFSETFROM:+0000
TZOFFSETTO:+0000
TZNAME:UTC
DTSTART:20190101T000000
END:STANDARD
END:VTIMEZONE
BEGIN:VEVENT
DTSTART;TZID=UTC:20190423T190000
DTEND;TZID=UTC:20190423T200000
DTSTAMP:20260425T103811
CREATED:20190307T144429Z
LAST-MODIFIED:20190307T144429Z
UID:433-1556046000-1556049600@sancroftcommunitycare.com
SUMMARY:St Georges Day Party
DESCRIPTION:
URL:https://sancroftcommunitycare.com/event/st-georges-day-party/
END:VEVENT
END:VCALENDAR