BEGIN:VCALENDAR
VERSION:2.0
PRODID:-//Sancroftcommunitycare - ECPv5.3.2//NONSGML v1.0//EN
CALSCALE:GREGORIAN
METHOD:PUBLISH
X-WR-CALNAME:Sancroftcommunitycare
X-ORIGINAL-URL:https://sancroftcommunitycare.com
X-WR-CALDESC:Events for Sancroftcommunitycare
BEGIN:VTIMEZONE
TZID:UTC
BEGIN:STANDARD
TZOFFSETFROM:+0000
TZOFFSETTO:+0000
TZNAME:UTC
DTSTART:20190101T000000
END:STANDARD
END:VTIMEZONE
BEGIN:VEVENT
DTSTART;TZID=UTC:20190317T190000
DTEND;TZID=UTC:20190317T210000
DTSTAMP:20260425T103837
CREATED:20190307T144352Z
LAST-MODIFIED:20190307T144352Z
UID:431-1552849200-1552856400@sancroftcommunitycare.com
SUMMARY:St Patricks Day Party
DESCRIPTION:
URL:https://sancroftcommunitycare.com/event/st-patricks-day-party/
END:VEVENT
END:VCALENDAR